BEGIN:VCALENDAR
VERSION:2.0
PRODID:-//Nantucket Walkabout | 2-Hour Guided Wilderness Hikes - ECPv6.15.18//NONSGML v1.0//EN
CALSCALE:GREGORIAN
METHOD:PUBLISH
X-ORIGINAL-URL:http://walknantucket.com
X-WR-CALDESC:Events for Nantucket Walkabout | 2-Hour Guided Wilderness Hikes
REFRESH-INTERVAL;VALUE=DURATION:PT1H
X-Robots-Tag:noindex
X-PUBLISHED-TTL:PT1H
BEGIN:VTIMEZONE
TZID:UTC
BEGIN:STANDARD
TZOFFSETFROM:+0000
TZOFFSETTO:+0000
TZNAME:UTC
DTSTART:20200101T000000
END:STANDARD
END:VTIMEZONE
BEGIN:VEVENT
DTSTART;TZID=UTC:20210521T100000
DTEND;TZID=UTC:20210521T113000
DTSTAMP:20260425T104125
CREATED:20210510T175130Z
LAST-MODIFIED:20210510T212740Z
UID:2166-1621591200-1621596600@walknantucket.com
SUMMARY:LLNF Biodiversity Walk
DESCRIPTION:2021 LLNF Biodiversity Walk. Friday mornings at 10am. \nExplore the unique\, native sandplain grassland and coastal heathland flora and fauna of Nantucket found at the Linda Loring Nature Foundation property. Guided by Director of Research and Education\, Dr. Sarah Bois. Free for members. \nRegistration for the LLNF Biodiversity Field Trip. Friday mornings at 10am. Pre-registration is required. Each participant is required to submit a unique registration\, you cannot register for multiple participants at a time. The deadline to register for each Friday’s trip will be Thursday at 3pm. Trips will have a maximum capacity of 10 participants\, will be limited to members of the LLNF only\, and will be free of charge. To become a member\, please click here. Please direct any questions to Dr. Sarah Bois\, LLNF Director of Research and Education\, at stbois@llnf.org. \n 
URL:http://walknantucket.com/event/llnf-biodiversity-walk/
ATTACH;FMTTYPE=image/png:http://walknantucket.com/wp-content/uploads/2021/05/Screen-Shot-2021-05-10-at-1.48.51-PM.png
ORGANIZER;CN="Linda Loring Nature  Foundation":MAILTO:info@llnf.org
END:VEVENT
BEGIN:VEVENT
DTSTART;TZID=UTC:20210519T080000
DTEND;TZID=UTC:20210519T103000
DTSTAMP:20260425T104125
CREATED:20210510T173337Z
LAST-MODIFIED:20210510T212354Z
UID:2157-1621411200-1621420200@walknantucket.com
SUMMARY:Birding Field Trip
DESCRIPTION:Linda Loring Nature Foundation Birding Field Trip. Wednesday mornings at 8am. These trips will explore Nantucket’s birding hotspots and offer participants a chance to observe birds in their natural habitats. \nPre-registration is required. Each participant is required to submit a unique registration\, you cannot register for multiple participants at a time. The deadline to register for each Wednesday’s trip will be Tuesday at 12pm. Participants will receive an email by 5pm on Tuesday with the meeting location\, driving directions\, and any other relevant information. Trips will have a maximum capacity of 5 participants\, will be limited to members of the LLNF only\, and will be free of charge. To become a member\, please click here. Personal transportation to and from the meeting location is required to participate. Please direct any questions to Seth Engelbourg\, LLNF Naturalist Educator and Program Manager at sengelbourg@llnf.org.
URL:http://walknantucket.com/event/birding-field-trip-2/
ATTACH;FMTTYPE=image/png:http://walknantucket.com/wp-content/uploads/2021/05/Screen-Shot-2021-05-10-at-1.35.48-PM.png
ORGANIZER;CN="Linda Loring Nature  Foundation":MAILTO:info@llnf.org
END:VEVENT
BEGIN:VEVENT
DTSTART;TZID=UTC:20210512T080000
DTEND;TZID=UTC:20210512T103000
DTSTAMP:20260425T104125
CREATED:20210510T172845Z
LAST-MODIFIED:20210510T212428Z
UID:2152-1620806400-1620815400@walknantucket.com
SUMMARY:Birding Field Trip
DESCRIPTION:Linda Loring Nature Foundation Birding Field Trip. Wednesday mornings at 8am. These trips will explore Nantucket’s birding hotspots and offer participants a chance to observe birds in their natural habitats. \nPre-registration is required. Each participant is required to submit a unique registration\, you cannot register for multiple participants at a time. The deadline to register for each Wednesday’s trip will be Tuesday at 12pm. Participants will receive an email by 5pm on Tuesday with the meeting location\, driving directions\, and any other relevant information. Trips will have a maximum capacity of 5 participants\, will be limited to members of the LLNF only\, and will be free of charge. To become a member\, please click here. Personal transportation to and from the meeting location is required to participate. Please direct any questions to Seth Engelbourg\, LLNF Naturalist Educator and Program Manager at sengelbourg@llnf.org.
URL:http://walknantucket.com/event/birding-field-trip/
ATTACH;FMTTYPE=image/png:http://walknantucket.com/wp-content/uploads/2021/05/Screen-Shot-2021-05-10-at-1.35.19-PM.png
ORGANIZER;CN="Linda Loring Nature  Foundation":MAILTO:info@llnf.org
END:VEVENT
BEGIN:VEVENT
DTSTART;VALUE=DATE:20210422
DTEND;VALUE=DATE:20210425
DTSTAMP:20260425T104125
CREATED:20210417T180626Z
LAST-MODIFIED:20210425T145918Z
UID:2130-1619049600-1619308799@walknantucket.com
SUMMARY:Resilient Nantucket: Designed for Adaptation
DESCRIPTION:Planned for April 22 (Earth Day) through April 24\, this public forum showcases resilience planning and cultural resource protection efforts in Europe and the United States as best practices for adapting historic communities to the impacts of our world’s changing climate.
URL:http://walknantucket.com/event/resilient-nantucket-designed-for-adaptation/
LOCATION:Zoom\, Nantucket\, 02554\, United States
ATTACH;FMTTYPE=image/jpeg:http://walknantucket.com/wp-content/uploads/2020/04/2019-08-25-19.41.12.jpg
END:VEVENT
END:VCALENDAR